{"text_format":"1","workbook":"xlsx","n_sheets":3,"sheets":["使用方法シート","入力用シート","印刷用シート"],"not_rendered":{"charts":0,"images":3,"macros":0,"external_links":0,"defined_names":2,"comments":0,"pivot_tables":0},"unopened":[],"bounds":{"document_bytes":16777216,"sheet_cells":100000,"rows_first":2000,"rows_last":500,"rows_between":2000,"halvings":0,"cell_chars":16384,"cell_head_chars":4096},"cells_cut":0,"cells_raw":0,"read":"whole","date_system":"1900"}

{"sheet":"使用方法シート","index":0,"n_rows":17,"n_cols":1,"rows_kept":17,"cut":false,"hidden":false,"merged":[]}
["【ダウンロード（納付書作成）方法】"]
["  この様式のエクセルファイルは、「使用方法シート」、「入力用シート」及び「印刷用シート」で構成"]
["　 されていますので、次の手順に従い、シートを切り替えて使用してください。"]
[]
["①　「入力用シート」を開き、入力項目欄（白色部分）を入力（選択）してください。"]
[]
["②　「印刷用シート」を開き、印刷してください。"]
[]
["③　「領収証書」、「納付書」、「領収済通知書」がＡ４用紙１枚に印刷されます。"]
[]
["④　印刷された用紙を点線で３枚に切り取り、３枚１組で使用してください。"]
["　　　　"]
[]
["【納付場所】"]
[]
["「県税の納付場所」に記載されている金融機関又は郵便局で納付してください。"]
["　　　「県税の納付場所」←ここをクリックしてください。"]

{"sheet":"入力用シート","index":1,"n_rows":53,"n_cols":37,"rows_kept":53,"cut":false,"hidden":false,"merged":[[19,0,19,1],[20,12,20,22],[14,20,19,22],[12,3,12,19],[11,20,11,22],[14,3,14,19],[15,3,15,19],[16,3,16,19],[17,3,17,19],[11,11,11,12],[13,4,13,13],[12,20,12,22],[39,3,39,18],[11,0,11,1],[0,0,0,2],[6,0,7,2],[1,0,2,2],[0,3,0,19],[11,8,11,10],[3,0,5,2],[13,14,13,19],[11,3,11,4],[18,3,18,19],[19,3,19,19],[20,0,20,1],[20,3,20,4],[20,9,20,10],[20,6,20,7],[12,0,12,1],[1,20,1,22],[8,3,8,4],[8,5,8,19],[6,21,7,22],[8,20,8,22],[6,3,7,20],[11,6,11,7],[11,14,11,15],[11,16,11,19],[9,20,9,22],[10,20,10,22],[10,3,10,19],[8,0,8,1],[1,3,2,19],[0,20,0,22],[3,21,5,22],[3,3,5,20]]}
["入力区分",null,null,"入力項目",null,null,null,null,null,null,null,null,null,null,null,null,null,null,null,null,"注意事項"]
["　 県税事務所名",null,null,"横浜県税事務所"]
[null,null,null,null,null,null,null,null,null,null,null,null,null,null,null,null,null,null,null,null,null,null,null,null,null,null,"申告"]
["所在地",null,null,null,null,null,null,null,null,null,null,null,null,null,null,null,null,null,null,null,null,"　←住所を入力してください。\n　　（改行は、Alt＋Enter）",null,null,null,null,"修正"]
[null,null,null,null,null,null,null,null,null,null,null,null,null,null,null,null,null,null,null,null,null,null,null,null,null,null,"更正"]
[null,null,null,null,null,null,null,null,null,null,null,null,null,null,null,null,null,null,null,null,null,null,null,null,null,null,"決定"]
["法人名",null,null,null,null,null,null,null,null,null,null,null,null,null,null,null,null,null,null,null,null,"　←法人名を入力してください。"]
[]
["年度",null,"令和",null,null,"年度",null,null,null,null,null,null,null,null,null,null,null,null,null,null,"　←納付される日が属する年度を和暦で入力してください。"]
["処理事項"]
["事業者コード",null,null,null,null,null,null,null,null,null,null,null,null,null,null,null,null,null,null,null,"　←事業者コードを入力してください。",null,null,null,null,null,{"$f":"IF(LENB(D11)>=10,LEFTB(RIGHTB(D11,10),1),\"\")","v":""},{"$f":"IF(LENB(D11)>=9,LEFTB(RIGHTB(D11,9),1),\"\")","v":""},{"$f":"IF(LENB(D11)>=8,LEFTB(RIGHTB(D11,8),1),\"\")","v":""},{"$f":"IF(LENB(D11)>=7,LEFTB(RIGHTB(D11,7),1),\"\")","v":""},{"$f":"IF(LENB(D11)>=6,LEFTB(RIGHTB(D11,6),1),\"\")","v":""},{"$f":"IF(LENB(D11)>=5,LEFTB(RIGHTB(D11,5),1),\"\")","v":""},{"$f":"IF(LENB(D11)>=4,LEFTB(RIGHTB(D11,4),1),\"\")","v":""},{"$f":"IF(LENB(D11)>=3,LEFTB(RIGHTB(D11,3),1),\"\")","v":""},{"$f":"IF(LENB(D11)>=2,LEFTB(RIGHTB(D11,2),1),\"\")","v":""},{"$f":"IF(LENB(D11)>=1,LEFTB(RIGHTB(D11,1),1),\"\")","v":""}]
["申告期間",null,"令和",null,null,"年",null,null,"月分(から",null,null,null,null,"年",null,null,"月分まで）",null,null,null,"　←和暦で入力してください。",null,null,null,"※下記のワークエリアは、チェック用に表示している（通常は「表示しない」にしておくこと）"]
["　 申告区分",null,null,null,null,null,null,null,null,null,null,null,null,null,null,null,null,null,null,null,"　←申告区分を選択してください。",null,null,null,"work"]
[]
["税額",null,"01",null,null,null,null,null,null,null,null,null,null,null,null,null,null,null,null,null,"\n　←納付する金額をそれぞれ入力してください。\n　　なお、「合計額」は自動計算します。",null,null,null,null,{"$f":"IF(LENB(D15)>=11,LEFTB(RIGHTB(D15,11),1),\"\")","v":""},{"$f":"IF(LENB(D15)>=10,LEFTB(RIGHTB(D15,10),1),\"\")","v":""},{"$f":"IF(LENB(D15)>=9,LEFTB(RIGHTB(D15,9),1),\"\")","v":""},{"$f":"IF(LENB(D15)>=8,LEFTB(RIGHTB(D15,8),1),\"\")","v":""},{"$f":"IF(LENB(D15)>=7,LEFTB(RIGHTB(D15,7),1),\"\")","v":""},{"$f":"IF(LENB(D15)>=6,LEFTB(RIGHTB(D15,6),1),\"\")","v":""},{"$f":"IF(LENB(D15)>=5,LEFTB(RIGHTB(D15,5),1),\"\")","v":""},{"$f":"IF(LENB(D15)>=4,LEFTB(RIGHTB(D15,4),1),\"\")","v":""},{"$f":"IF(LENB(D15)>=3,LEFTB(RIGHTB(D15,3),1),\"\")","v":""},{"$f":"IF(LENB(D15)>=2,LEFTB(RIGHTB(D15,2),1),\"\")","v":""},{"$f":"IF(LENB(D15)>=1,LEFTB(RIGHTB(D15,1),1),\"\")","v":""}]
["延滞金",null,"02",null,null,null,null,null,null,null,null,null,null,null,null,null,null,null,null,null,null,null,null,null,null,"","","","","","","","","","",""]
["過少申告加算金",null,"03",null,null,null,null,null,null,null,null,null,null,null,null,null,null,null,null,null,null,null,null,null,null,"","","","","","","","","","",""]
["不申告加算金",null,"04",null,null,null,null,null,null,null,null,null,null,null,null,null,null,null,null,null,null,null,null,null,null,"","","","","","","","","","",""]
["重加算金",null,"05",null,null,null,null,null,null,null,null,null,null,null,null,null,null,null,null,null,null,null,null,null,null,"","","","","","","","","","",""]
["　 合計額",null,"06",{"$f":"SUM(D15:T19)","v":0},null,null,null,null,null,null,null,null,null,null,null,null,null,null,null,null,null,null,null,null,null,"","","","","","","","","","","0"]
["　 納期限",null,"令和",null,null,"年",null,null,"月",null,null,"日","　←和暦で入力してください。",null,null,null,null,null,null,null,null,null,null,null,{"$f":"IF(LENB(D21)>11,\"*\",IF(LENB(D21)=11,LEFTB(RIGHTB(D21,11),1),\"\"))","v":""},{"$f":"IF(LENB(D21)>=10,LEFTB(RIGHTB(D21,10),1),\"\")","v":""},{"$f":"IF(LENB(D21)>=9,LEFTB(RIGHTB(D21,9),1),\"\")","v":""},{"$f":"IF(LENB(D21)>=8,LEFTB(RIGHTB(D21,8),1),\"\")","v":""},{"$f":"IF(LENB(D21)>=7,LEFTB(RIGHTB(D21,7),1),\"\")","v":""},null,"","",null,{"$f":"IF(LENB(D21)>=4,LEFTB(RIGHTB(D21,4),1),\"\")","v":""},{"$f":"IF(LENB(D21)>=3,LEFTB(RIGHTB(D21,3),1),\"\")","v":""},{"$f":"IF(LENB(D21)>=2,LEFTB(RIGHTB(D21,2),1),\"\")","v":""},{"$f":"IF(LENB(D21)>=1,LEFTB(RIGHTB(D21,1),1),\"\")","v":""}]
[null,null,null,null,null,null,null,null,null,null,null,null,null,null,null,null,null,null,null,null,null,null,null,null,{"$f":"IF(LENB(D22)>11,\"*\",IF(LENB(D22)=11,LEFTB(RIGHTB(D22,11),1),\"\"))","v":""},{"$f":"IF(LENB(D22)>=10,LEFTB(RIGHTB(D22,10),1),\"\")","v":""},{"$f":"IF(LENB(D22)>=9,LEFTB(RIGHTB(D22,9),1),\"\")","v":""},{"$f":"IF(LENB(D22)>=8,LEFTB(RIGHTB(D22,8),1),\"\")","v":""},{"$f":"IF(LENB(D22)>=7,LEFTB(RIGHTB(D22,7),1),\"\")","v":""},null,"","",null,{"$f":"IF(LENB(D22)>=4,LEFTB(RIGHTB(D22,4),1),\"\")","v":""},{"$f":"IF(LENB(D22)>=3,LEFTB(RIGHTB(D22,3),1),\"\")","v":""},{"$f":"IF(LENB(D22)>=2,LEFTB(RIGHTB(D22,2),1),\"\")","v":""},{"$f":"IF(LENB(D22)>=1,LEFTB(RIGHTB(D22,1),1),\"\")","v":""}]
[null,null,null,null,null,null,null,null,null,null,null,null,null,null,null,null,null,null,null,null,null,null,null,null,"",{"$f":"IF(LENB(D23)>=10,LEFTB(RIGHTB(D23,10),1),\"\")","v":""},{"$f":"IF(LENB(D23)>=9,LEFTB(RIGHTB(D23,9),1),\"\")","v":""},{"$f":"IF(LENB(D23)>=8,LEFTB(RIGHTB(D23,8),1),\"\")","v":""},{"$f":"IF(LENB(D23)>=7,LEFTB(RIGHTB(D23,7),1),\"\")","v":""},null,"","",null,{"$f":"IF(LENB(D23)>=4,LEFTB(RIGHTB(D23,4),1),\"\")","v":""},{"$f":"IF(LENB(D23)>=3,LEFTB(RIGHTB(D23,3),1),\"\")","v":""},{"$f":"IF(LENB(D23)>=2,LEFTB(RIGHTB(D23,2),1),\"\")","v":""},{"$f":"IF(LENB(D23)>=1,LEFTB(RIGHTB(D23,1),1),\"\")","v":""}]
[null,null,null,null,null,null,null,null,null,null,null,null,null,null,null,null,null,null,null,null,null,null,null,null,"",{"$f":"IF(LENB(D24)>=10,LEFTB(RIGHTB(D24,10),1),\"\")","v":""},{"$f":"IF(LENB(D24)>=9,LEFTB(RIGHTB(D24,9),1),\"\")","v":""},{"$f":"IF(LENB(D24)>=8,LEFTB(RIGHTB(D24,8),1),\"\")","v":""},{"$f":"IF(LENB(D24)>=7,LEFTB(RIGHTB(D24,7),1),\"\")","v":""},null,"","",null,{"$f":"IF(LENB(D24)>=4,LEFTB(RIGHTB(D24,4),1),\"\")","v":""},{"$f":"IF(LENB(D24)>=3,LEFTB(RIGHTB(D24,3),1),\"\")","v":""},{"$f":"IF(LENB(D24)>=2,LEFTB(RIGHTB(D24,2),1),\"\")","v":""},{"$f":"IF(LENB(D24)>=1,LEFTB(RIGHTB(D24,1),1),\"\")","v":""}]
[null,null,null,null,null,null,null,null,null,null,null,null,null,null,null,null,null,null,null,null,null,null,null,null,"",{"$f":"IF(LENB(D25)>=10,LEFTB(RIGHTB(D25,10),1),\"\")","v":""},{"$f":"IF(LENB(D25)>=9,LEFTB(RIGHTB(D25,9),1),\"\")","v":""},{"$f":"IF(LENB(D25)>=8,LEFTB(RIGHTB(D25,8),1),\"\")","v":""},{"$f":"IF(LENB(D25)>=7,LEFTB(RIGHTB(D25,7),1),\"\")","v":""},null,{"$f":"IF(LENB(D25)>=6,LEFTB(RIGHTB(D25,6),1),\"\")","v":""},{"$f":"IF(LENB(D25)>=5,LEFTB(RIGHTB(D25,5),1),\"\")","v":""},null,{"$f":"IF(LENB(D25)>=4,LEFTB(RIGHTB(D25,4),1),\"\")","v":""},{"$f":"IF(LENB(D25)>=3,LEFTB(RIGHTB(D25,3),1),\"\")","v":""},{"$f":"IF(LENB(D25)>=2,LEFTB(RIGHTB(D25,2),1),\"\")","v":""},{"$f":"IF(LENB(D25)>=1,LEFTB(RIGHTB(D25,1),1),\"\")","v":""}]
[null,null,null,null,null,null,null,null,null,null,null,null,null,null,null,null,null,null,null,null,null,null,null,null,"","","","","",null,"","",null,"","","",""]
[null,null,null,null,null,null,null,null,null,null,null,null,null,null,null,null,null,null,null,null,null,null,null,null,"","","","","",null,"","",null,"","","",""]
[null,null,null,null,null,null,null,null,null,null,null,null,null,null,null,null,null,null,null,null,null,null,null,null,"","","","","",null,"","",null,"","","",""]
[null,null,null,null,null,null,null,null,null,null,null,null,null,null,null,null,null,null,null,null,null,null,null,null,"","","","","",null,"","",null,"","","",""]
[null,null,null,null,null,null,null,null,null,null,null,null,null,null,null,null,null,null,null,null,null,null,null,null,"","","","","",null,"","",null,"","","",""]
[null,null,null,null,null,null,null,null,null,null,null,null,null,null,null,null,null,null,null,null,null,null,null,null,"","","","","",null,"","",null,"","","",""]
[null,null,null,null,null,null,null,null,null,null,null,null,null,null,null,null,null,null,null,null,null,null,null,null,"","","","","",null,"","",null,"","","",""]
[null,null,null,null,null,null,null,null,null,null,null,null,null,null,null,null,null,null,null,null,null,null,null,null,"","","","","",null,"","",null,"","","",""]
[null,null,null,null,null,null,null,null,null,null,null,null,null,null,null,null,null,null,null,null,null,null,null,null,"","","","","",null,"","",null,"","","",""]
[null,null,null,null,null,null,null,null,null,null,null,null,null,null,null,null,null,null,null,null,null,null,null,null,"","","","","",null,"","",null,"","","",""]
[null,null,null,null,null,null,null,null,null,null,null,null,null,null,null,null,null,null,null,null,null,null,null,null,"","","","","",null,"","",null,"","","",""]
[]
["※下記のワークエリアは、チェック用に表示している（通常は「表示しない」にしておくこと）"]
["WORK"]
[{"$f":"IF(D13=\"中間申告\",\"21\",IF(D13=\"予定申告\",\"11\",IF(OR(D13=\"確定申告\",D13=\"確定申告（見込）\"),\"61\",IF(D13=\"修正申告\",\"62\",IF(D13=\"更正\",\"63\",IF(D13=\"決定\",\"65\",IF(D13=\"清算予納申告\",\"81\",IF(D13=\"清算確定申告\",\"91\",\"\"))))))))","v":""},{"$f":"IF(D2=\"\",\"\",VLOOKUP(1,A42:B53,2))","v":"00220-5-960040"},null,{"$f":"IF(D2=\"\",\"\",VLOOKUP(1,A42:T53,4))","v":"横浜県税事務所"},null,null,null,null,null,null,null,null,null,null,null,null,null,null,null,{"$f":"IF(D2=\"\",\"\",VLOOKUP(1,A42:T53,10))","v":0},{"$f":"IF(D2=\"\",\"\",\"神奈川県 \"&D40&\" 出納員\")","v":"神奈川県 横浜県税事務所 出納員"}]
[]
[{"$f":"IF($D$2=D42,1,\"\")","v":1},"00220-5-960040",null,"横浜県税事務所",null,null,null,null,null,null,null,null,null,null,null,null,null,null,null,10]
[{"$f":"IF($D$2=D43,1,\"\")","v":""},"00230-7-960041",null,"神奈川県税事務所",null,null,null,null,null,null,null,null,null,null,null,null,null,null,null,12]
["","00210-3-960120",null,"緑県税事務所",null,null,null,null,null,null,null,null,null,null,null,null,null,null,null,13]
["","00200-4-960089",null,"戸塚県税事務所",null,null,null,null,null,null,null,null,null,null,null,null,null,null,null,20]
["","00280-4-960046",null,"川崎県税事務所",null,null,null,null,null,null,null,null,null,null,null,null,null,null,null,24]
["","00290-6-960047",null,"高津県税事務所",null,null,null,null,null,null,null,null,null,null,null,null,null,null,null,26]
["","00270-3-960045",null,"横須賀県税事務所",null,null,null,null,null,null,null,null,null,null,null,null,null,null,null,28]
["","00280-4-960053",null,"平塚県税事務所",null,null,null,null,null,null,null,null,null,null,null,null,null,null,null,30]
["","00200-7-960048",null,"藤沢県税事務所",null,null,null,null,null,null,null,null,null,null,null,null,null,null,null,34]
["","00200-7-960055",null,"小田原県税事務所",null,null,null,null,null,null,null,null,null,null,null,null,null,null,null,36]
["","00250-9-960050",null,"相模原県税事務所",null,null,null,null,null,null,null,null,null,null,null,null,null,null,null,38]
["","00270-2-960052",null,"厚木県税事務所",null,null,null,null,null,null,null,null,null,null,null,null,null,null,null,42]

{"sheet":"印刷用シート","index":2,"n_rows":98,"n_cols":104,"rows_kept":98,"cut":false,"hidden":false,"merged":[[2,103,89,103],[62,53,67,54],[62,55,67,56],[62,57,67,58],[62,61,67,62],[62,43,67,44],[62,45,67,46],[62,47,67,48],[62,49,67,50],[62,51,67,52],[79,1,81,5],[79,7,81,18],[82,1,85,5],[82,7,83,18],[84,7,85,18],[56,45,61,46],[56,47,61,48],[56,49,61,50],[56,51,61,52],[56,53,61,54],[56,63,61,64],[56,65,61,66],[50,61,55,62],[50,63,55,64],[50,53,55,54],[50,55,55,56],[50,57,55,58],[56,57,61,58],[56,59,61,60],[56,61,61,62],[44,57,49,58],[35,65,35,66],[50,89,55,90],[36,61,43,62],[36,63,43,64],[36,65,43,66],[50,65,55,66],[62,63,67,64],[56,55,61,56],[50,49,55,50],[62,59,67,60],[62,65,67,66],[50,93,55,94],[77,69,78,73],[75,69,76,73],[75,83,75,84],[75,79,75,80],[75,90,85,100],[75,75,75,76],[75,77,75,78],[75,88,85,89],[75,81,75,82],[75,85,75,86],[62,97,67,98],[62,99,67,100],[50,59,55,60],[32,52,34,55],[32,56,34,66],[35,61,35,62],[35,63,35,64],[35,35,35,42],[35,43,35,44],[35,45,35,46],[35,47,35,48],[35,49,35,50],[35,51,35,52],[35,53,35,54],[35,55,35,56],[35,57,35,58],[35,59,35,60],[28,61,29,61],[28,15,29,15],[28,16,29,16],[28,17,29,17],[28,18,29,18],[28,62,29,62],[31,56,31,66],[28,25,29,25],[28,26,29,26],[28,27,29,27],[28,28,29,28],[28,29,29,29],[28,30,29,30],[28,60,29,60],[28,56,29,56],[77,35,78,39],[79,35,82,39],[75,35,76,39],[32,35,34,36],[62,21,67,22],[62,23,67,24],[28,23,29,23],[28,24,29,24],[28,31,29,31],[28,32,29,32],[36,35,43,42],[44,35,49,42],[50,35,55,42],[62,35,67,42],[32,5,34,6],[32,1,34,2],[31,22,31,32],[35,23,35,24],[35,25,35,26],[35,27,35,28],[35,1,35,8],[28,19,29,19],[28,20,29,20],[28,21,29,21],[28,22,29,22],[2,1,2,6],[27,1,27,5],[27,6,27,22],[27,23,27,32],[28,6,29,6],[28,7,29,7],[28,8,29,8],[28,9,29,9],[28,10,29,10],[3,3,5,3],[6,7,6,9],[32,14,34,15],[32,18,34,21],[32,16,34,17],[5,10,5,21],[6,10,6,21],[5,22,5,32],[68,27,73,28],[28,65,29,65],[28,66,29,66],[28,51,29,51],[28,44,29,44],[28,45,29,45],[28,46,29,46],[28,52,29,52],[28,53,29,53],[28,54,29,54],[28,55,29,55],[28,57,29,57],[28,58,29,58],[28,59,29,59],[6,22,6,32],[28,11,29,11],[28,12,29,12],[28,13,29,13],[2,35,2,40],[3,35,5,35],[3,36,5,36],[6,35,6,40],[3,37,5,37],[3,38,5,38],[3,40,5,40],[68,29,73,30],[68,31,73,32],[2,10,3,32],[28,14,29,14],[3,39,5,39],[6,1,6,6],[3,1,5,1],[3,4,5,4],[3,5,5,5],[3,6,5,6],[3,2,5,2],[5,44,5,55],[6,44,6,55],[5,56,5,66],[6,56,6,66],[6,90,6,100],[7,69,7,100],[6,69,6,74],[3,71,5,71],[3,72,5,72],[3,73,5,73],[6,78,6,89],[6,75,6,77],[2,69,2,74],[3,69,5,69],[5,90,5,100],[5,78,5,89],[3,74,5,74],[2,78,3,100],[3,70,5,70],[75,17,75,18],[77,7,78,18],[68,23,73,24],[68,25,73,26],[75,15,75,16],[68,11,73,12],[68,13,73,14],[68,15,73,16],[75,7,75,8],[75,9,75,10],[28,1,30,5],[28,43,29,43],[28,47,29,47],[28,48,29,48],[28,49,29,49],[28,50,29,50],[75,20,85,21],[56,43,61,44],[31,1,31,21],[32,3,34,4],[32,7,34,11],[56,21,61,22],[56,23,61,24],[50,27,55,28],[50,29,55,30],[50,31,55,32],[68,17,73,18],[68,19,73,20],[68,21,73,22],[62,25,67,26],[62,27,67,28],[62,29,67,30],[75,1,76,5],[77,1,78,5],[6,41,6,43],[8,36,14,65],[27,35,27,39],[27,40,27,56],[27,57,27,66],[36,31,43,32],[15,36,25,65],[36,27,43,28],[44,27,49,28],[28,35,30,39],[44,29,49,30],[44,31,49,32],[28,40,29,40],[28,41,29,41],[28,42,29,42],[31,35,31,55],[7,1,7,32],[7,35,7,66],[8,2,14,31],[15,2,25,31],[32,12,34,13],[32,22,34,32],[28,63,29,63],[28,64,29,64],[81,40,82,52],[75,51,75,52],[77,41,78,52],[75,49,75,50],[75,43,75,44],[62,31,67,32],[75,22,85,32],[87,33,87,34],[44,11,49,12],[44,13,49,14],[44,15,49,16],[44,17,49,18],[44,19,49,20],[44,21,49,22],[44,23,49,24],[50,15,55,16],[50,17,55,18],[75,11,75,12],[75,13,75,14],[62,11,67,12],[62,13,67,14],[62,15,67,16],[62,17,67,18],[62,19,67,20],[0,1,0,102],[44,1,49,8],[44,9,49,10],[50,1,55,8],[56,1,61,8],[62,1,67,8],[2,44,3,66],[35,15,35,16],[35,17,35,18],[35,9,35,10],[32,41,34,45],[32,46,34,47],[32,48,34,49],[32,50,34,51],[56,35,61,42],[32,37,34,38],[32,39,34,40],[36,21,43,22],[36,23,43,24],[36,25,43,26],[44,25,49,26],[56,11,61,12],[56,13,61,14],[56,15,61,16],[36,1,43,8],[36,15,43,16],[35,11,35,12],[36,9,43,10],[36,13,43,14],[36,11,43,12],[89,1,89,102],[77,75,78,86],[68,9,73,10],[50,11,55,12],[50,13,55,14],[68,43,73,44],[68,45,73,46],[75,54,85,55],[75,56,85,66],[68,1,73,8],[75,47,75,48],[75,45,75,46],[68,35,73,42],[50,23,55,24],[50,25,55,26],[36,29,43,30],[75,41,75,42],[79,40,80,52],[62,9,67,10],[35,13,35,14],[68,49,73,50],[35,29,35,30],[35,31,35,32],[36,17,43,18],[36,19,43,20],[50,9,55,10],[56,9,61,10],[56,17,61,18],[50,19,55,20],[50,21,55,22],[56,25,61,26],[56,27,61,28],[56,29,61,30],[56,31,61,32],[56,19,61,20],[36,43,43,44],[36,45,43,46],[36,47,43,48],[36,49,43,50],[44,43,49,44],[44,45,49,46],[44,47,49,48],[68,51,73,52],[68,53,73,54],[68,55,73,56],[68,57,73,58],[68,59,73,60],[68,61,73,62],[68,47,73,48],[35,19,35,20],[35,21,35,22],[36,55,43,56],[36,57,43,58],[36,53,43,54],[44,51,49,52],[44,53,49,54],[44,55,49,56],[44,59,49,60],[36,51,43,52],[36,59,43,60],[44,49,49,50],[44,61,49,62],[50,43,55,44],[50,45,55,46],[50,47,55,48],[50,51,55,52],[68,63,73,64],[68,65,73,66],[8,70,14,99],[15,70,25,99],[27,69,27,73],[27,74,27,90],[28,74,29,74],[28,75,29,75],[28,76,29,76],[28,77,29,77],[28,87,29,87],[28,88,29,88],[28,89,29,89],[28,90,29,90],[44,63,49,64],[44,65,49,66],[62,93,67,94],[27,91,27,100],[28,86,29,86],[36,99,43,100],[44,87,49,88],[44,89,49,90],[44,91,49,92],[62,95,67,96],[28,97,29,97],[28,98,29,98],[28,99,29,99],[28,100,29,100],[31,69,31,89],[31,90,31,100],[28,91,29,91],[28,92,29,92],[28,93,29,93],[28,94,29,94],[28,78,29,78],[28,79,29,79],[28,95,29,95],[28,96,29,96],[28,80,29,80],[28,81,29,81],[28,82,29,82],[28,83,29,83],[28,84,29,84],[28,85,29,85],[28,69,30,73],[35,69,35,76],[35,77,35,78],[35,79,35,80],[35,81,35,82],[35,83,35,84],[35,85,35,86],[35,87,35,88],[32,69,34,70],[32,71,34,72],[32,73,34,74],[32,75,34,79],[32,80,34,81],[32,82,34,83],[35,89,35,90],[35,91,35,92],[35,93,35,94],[35,95,35,96],[35,97,35,98],[35,99,35,100],[32,84,34,85],[32,86,34,89],[32,90,34,100],[36,87,43,88],[36,89,43,90],[36,91,43,92],[36,93,43,94],[36,95,43,96],[36,97,43,98],[36,69,43,76],[36,77,43,78],[36,79,43,80],[36,81,43,82],[36,83,43,84],[36,85,43,86],[44,93,49,94],[44,95,49,96],[44,97,49,98],[44,99,49,100],[50,69,55,76],[50,77,55,78],[50,79,55,80],[50,81,55,82],[50,83,55,84],[50,85,55,86],[44,69,49,76],[44,77,49,78],[44,79,49,80],[44,81,49,82],[44,83,49,84],[44,85,49,86],[50,95,55,96],[50,97,55,98],[50,99,55,100],[50,91,55,92],[50,87,55,88],[56,69,61,76],[56,77,61,78],[56,79,61,80],[56,81,61,82],[56,83,61,84],[56,85,61,86],[56,89,61,90],[56,87,61,88],[62,87,67,88],[62,89,67,90],[56,91,61,92],[56,93,61,94],[56,95,61,96],[56,97,61,98],[56,99,61,100],[68,99,73,100],[68,87,73,88],[68,89,73,90],[68,91,73,92],[68,93,73,94],[68,95,73,96],[68,97,73,98],[62,91,67,92],[68,69,73,76],[68,77,73,78],[68,79,73,80],[68,81,73,82],[68,83,73,84],[68,85,73,86],[62,69,67,76],[62,77,67,78],[62,79,67,80],[62,81,67,82],[62,83,67,84],[62,85,67,86]]}
[null,{"$f":"IF(H78<>\"\",\"\",\"【納付書使用不可】入力用シートの提出先県税事務所を選択してください。\")","v":""}]
[]
[null,"都道府県コード",null,null,null,null,null,null,null,null,"　　道府県たばこ税領収済通知書",null,null,null,null,null,null,null,null,null,null,null,null,null,null,null,null,null,null,null,null,null,null,null,null,"都道府県コード",null,null,null,null,null,null,null,null,"　　道府県たばこ税納付書",null,null,null,null,null,null,null,null,null,null,null,null,null,null,null,null,null,null,null,null,null,null,null,null,"都道府県コード",null,null,null,null,null,null,null,null,"　　道府県たばこ税領収証書",null,null,null,null,null,null,null,null,null,null,null,null,null,null,null,null,null,null,null,null,null,null,null,null,"↓点線で３枚に切り取り、３枚１組として、「使用方法シート」に記載した「県税の納付場所」に掲載されている金融機関又は郵便局で納付してください。"]
[null,1,4,0,0,0,7,null,null,null,null,null,null,null,null,null,null,null,null,null,null,null,null,null,null,null,null,null,null,null,null,null,null,null,null,1,4,0,0,0,7,null,null,null,null,null,null,null,null,null,null,null,null,null,null,null,null,null,null,null,null,null,null,null,null,null,null,null,null,1,4,0,0,0,7]
[null,null,null,null,null,null,null,null,null,null,null,null,null,null,null,null,null,null,null,null,null,null,null,null,null,null,null,null,null,null,null,null,null,null,null,null,null,null,null,null,null,null,null,null,"　"]
[null,null,null,null,null,null,null,null,null,null,"口　座　番　号",null,null,null,null,null,null,null,null,null,null,null,"加　入　者",null,null,null,null,null,null,null,null,null,null,null,null,null,null,null,null,null,null,null,null,null,"口　座　番　号",null,null,null,null,null,null,null,null,null,null,null,"加　入　者",null,null,null,null,null,null,null,null,null,null,null,null,null,null,null,null,null,null,null,null,null,"口　座　番　号",null,null,null,null,null,null,null,null,null,null,null,"加　入　者"]
[null,"神奈川",null,null,null,null,null,"都道\n府県",null,null,{"$f":"入力用シート!B40","v":"00220-5-960040"},null,null,null,null,null,null,null,null,null,null,null,{"$f":"IF(入力用シート!U40<>\"\",入力用シート!U40,\"\")","v":"神奈川県 横浜県税事務所 出納員"},null,null,null,null,null,null,null,null,null,null,null,null,{"$f":"B7","v":"神奈川"},null,null,null,null,null,"都道\n府県",null,null,{"$f":"K7","v":"00220-5-960040"},null,null,null,null,null,null,null,null,null,null,null,{"$f":"W7","v":"神奈川県 横浜県税事務所 出納員"},null,null,null,null,null,null,null,null,null,null,null,null,{"$f":"B7","v":"神奈川"},null,null,null,null,null,"都道\n府県",null,null,{"$f":"K7","v":"00220-5-960040"},null,null,null,null,null,null,null,null,null,null,null,{"$f":"W7","v":"神奈川県 横浜県税事務所 出納員"}]
[null,"所在地及び氏名又は名称",null,null,null,null,null,null,null,null,null,null,null,null,null,null,null,null,null,null,null,null,null,null,null,null,null,null,null,null,null,null,null,null,null,"所在地及び氏名又は名称",null,null,null,null,null,null,null,null,null,null,null,null,null,null,null,null,null,null,null,null,null,null,null,null,null,null,null,null,null,null,null,null,null,"所在地及び氏名又は名称"]
[null,null,{"$f":"入力用シート!D4","v":0},null,null,null,null,null,null,null,null,null,null,null,null,null,null,null,null,null,null,null,null,null,null,null,null,null,null,null,null,null,null,null,null,null,{"$f":"C9","v":0},null,null,null,null,null,null,null,null,null,null,null,null,null,null,null,null,null,null,null,null,null,null,null,null,null,null,null,null,null,null,null,null,null,{"$f":"C9","v":0}]
[]
[]
[]
[]
[]
[]
[null,null,{"$f":"入力用シート!D7","v":0},null,null,null,null,null,null,null,null,null,null,null,null,null,null,null,null,null,null,null,null,null,null,null,null,null,null,null,null,null,null,null,null,null,{"$f":"C16","v":0},null,null,null,null,null,null,null,null,null,null,null,null,null,null,null,null,null,null,null,null,null,null,null,null,null,null,null,null,null,null,null,null,null,{"$f":"C16","v":0}]
[]
[]
[]
[]
[]
[]
[]
[]
[]
[]
[]
[null,"年度",null,null,null,null,"※処理事項",null,null,null,null,null,null,null,null,null,null,null,null,null,null,null,null,"事業者コード",null,null,null,null,null,null,null,null,null,null,null,"年度",null,null,null,null,"※処理事項",null,null,null,null,null,null,null,null,null,null,null,null,null,null,null,null,"事業者コード",null,null,null,null,null,null,null,null,null,null,null,"年度",null,null,null,null,"※処理事項",null,null,null,null,null,null,null,null,null,null,null,null,null,null,null,null,"事業者コード"]
[null,{"$f":"入力用シート!D9","v":0},null,null,null,null,{"$f":"入力用シート!D10","v":0},{"$f":"入力用シート!E10","v":0},{"$f":"入力用シート!F10","v":0},{"$f":"入力用シート!G10","v":0},{"$f":"入力用シート!H10","v":0},{"$f":"入力用シート!I10","v":0},{"$f":"入力用シート!J10","v":0},{"$f":"入力用シート!K10","v":0},{"$f":"入力用シート!L10","v":0},{"$f":"入力用シート!M10","v":0},{"$f":"入力用シート!N10","v":0},{"$f":"入力用シート!O10","v":0},{"$f":"入力用シート!P10","v":0},{"$f":"入力用シート!Q10","v":0},{"$f":"入力用シート!R10","v":0},{"$f":"入力用シート!S10","v":0},{"$f":"入力用シート!T10","v":0},{"$f":"入力用シート!AA11","v":""},{"$f":"入力用シート!AB11","v":""},{"$f":"入力用シート!AC11","v":""},{"$f":"入力用シート!AD11","v":""},{"$f":"入力用シート!AE11","v":""},{"$f":"入力用シート!AF11","v":""},{"$f":"入力用シート!AG11","v":""},{"$f":"入力用シート!AH11","v":""},{"$f":"入力用シート!AI11","v":""},{"$f":"入力用シート!AJ11","v":""},null,null,{"$f":"B29","v":0},null,null,null,null,{"$f":"G29","v":0},{"$f":"H29","v":0},0,0,0,0,0,0,0,0,0,0,0,0,0,0,0,{"$f":"X29","v":""},{"$f":"Y29","v":""},"","","","","","","","",null,null,{"$f":"B29","v":0},null,null,null,null,{"$f":"G29","v":0},{"$f":"H29","v":0},0,0,0,0,0,0,0,0,0,0,0,0,0,0,0,{"$f":"X29","v":""},{"$f":"Y29","v":""},"","","","","","","",""]
[]
[null,null,null,null,null,null,null,null,null,null,null,{"$f":"入力用シート!Y22","v":""},null,{"$f":"入力用シート!Z22","v":""},null,{"$f":"入力用シート!AA22","v":""},null,{"$f":"入力用シート!AB22","v":""},null,{"$f":"入力用シート!AC22","v":""},null,{"$f":"入力用シート!AE22","v":""},null,{"$f":"入力用シート!AF22","v":""},null,{"$f":"入力用シート!AH22","v":""},null,{"$f":"入力用シート!AI22","v":""},null,{"$f":"入力用シート!AJ22","v":""},null,{"$f":"入力用シート!AK22","v":""}]
[null,"申告期間",null,null,null,null,null,null,null,null,null,null,null,null,null,null,null,null,null,null,null,null,"申告区分",null,null,null,null,null,null,null,null,null,null,null,null,"申告期間",null,null,null,null,null,null,null,null,null,null,null,null,null,null,null,null,null,null,null,null,"申告区分",null,null,null,null,null,null,null,null,null,null,null,null,"申告期間",null,null,null,null,null,null,null,null,null,null,null,null,null,null,null,null,null,null,null,null,"申告区分"]
[null,{"$f":"入力用シート!D12","v":0},null,"年",null,{"$f":"入力用シート!G12","v":0},null,"月分(から",null,null,null,null,{"$f":"入力用シート!L12","v":0},null,"年",null,{"$f":"入力用シート!O12","v":0},null,"月分まで)",null,null,null,{"$f":"入力用シート!D13","v":0},null,null,null,null,null,null,null,null,null,null,null,null,{"$f":"B33","v":0},null,"年",null,{"$f":"F33","v":0},null,"月分(から",null,null,null,null,{"$f":"M33","v":0},null,"年",null,{"$f":"Q33","v":0},null,"月分まで)",null,null,null,{"$f":"W33","v":0},null,null,null,null,null,null,null,null,null,null,null,null,{"$f":"B33","v":0},null,"年",null,{"$f":"F33","v":0},null,"月分(から",null,null,null,null,{"$f":"M33","v":0},null,"年",null,{"$f":"Q33","v":0},null,"月分まで)",null,null,null,{"$f":"W33","v":0}]
[]
[]
[null,null,null,null,null,null,null,null,null,null,null,"百",null,"十",null,"億",null,"千",null,"百",null,"十",null,"万",null,"千",null,"百",null,"十",null,"円",null,null,null,null,null,null,null,null,null,null,null,null,null,"百",null,"十",null,"億",null,"千",null,"百",null,"十",null,"万",null,"千",null,"百",null,"十",null,"円",null,null,null,null,null,null,null,null,null,null,null,null,null,"百",null,"十",null,"億",null,"千",null,"百",null,"十",null,"万",null,"千",null,"百",null,"十",null,"円"]
[null,"税額",null,null,null,null,null,null,null,"01",null,{"$f":"入力用シート!Z15","v":""},null,{"$f":"入力用シート!AA15","v":""},null,{"$f":"入力用シート!AB15","v":""},null,{"$f":"入力用シート!AC15","v":""},null,{"$f":"入力用シート!AD15","v":""},null,{"$f":"入力用シート!AE15","v":""},null,{"$f":"入力用シート!AF15","v":""},null,{"$f":"入力用シート!AG15","v":""},null,{"$f":"入力用シート!AH15","v":""},null,{"$f":"入力用シート!AI15","v":""},null,{"$f":"入力用シート!AJ15","v":""},null,null,null,"税額",null,null,null,null,null,null,null,"01",null,{"$f":"L37","v":""},null,{"$f":"N37","v":""},null,{"$f":"P37","v":""},null,{"$f":"R37","v":""},null,{"$f":"T37","v":""},null,{"$f":"V37","v":""},null,{"$f":"X37","v":""},null,{"$f":"Z37","v":""},null,{"$f":"AB37","v":""},null,{"$f":"AD37","v":""},null,{"$f":"AF37","v":""},null,null,null,"税額",null,null,null,null,null,null,null,"01",null,{"$f":"L37","v":""},null,{"$f":"N37","v":""},null,{"$f":"P37","v":""},null,{"$f":"R37","v":""},null,{"$f":"T37","v":""},null,{"$f":"V37","v":""},null,{"$f":"X37","v":""},null,{"$f":"Z37","v":""},null,{"$f":"AB37","v":""},null,{"$f":"AD37","v":""},null,{"$f":"AF37","v":""}]
[]
[]
[]
[]
[]
[]
[]
[null,"延滞金",null,null,null,null,null,null,null,"02",null,{"$f":"入力用シート!Z16","v":""},null,{"$f":"入力用シート!AA16","v":""},null,{"$f":"入力用シート!AB16","v":""},null,{"$f":"入力用シート!AC16","v":""},null,{"$f":"入力用シート!AD16","v":""},null,{"$f":"入力用シート!AE16","v":""},null,{"$f":"入力用シート!AF16","v":""},null,{"$f":"入力用シート!AG16","v":""},null,{"$f":"入力用シート!AH16","v":""},null,{"$f":"入力用シート!AI16","v":""},null,{"$f":"入力用シート!AJ16","v":""},null,null,null,"延滞金",null,null,null,null,null,null,null,"02",null,{"$f":"L45","v":""},null,{"$f":"N45","v":""},null,{"$f":"P45","v":""},null,{"$f":"R45","v":""},null,{"$f":"T45","v":""},null,{"$f":"V45","v":""},null,{"$f":"X45","v":""},null,{"$f":"Z45","v":""},null,{"$f":"AB45","v":""},null,{"$f":"AD45","v":""},null,{"$f":"AF45","v":""},null,null,null,"延滞金",null,null,null,null,null,null,null,"02",null,{"$f":"L45","v":""},null,{"$f":"N45","v":""},null,{"$f":"P45","v":""},null,{"$f":"R45","v":""},null,{"$f":"T45","v":""},null,{"$f":"V45","v":""},null,{"$f":"X45","v":""},null,{"$f":"Z45","v":""},null,{"$f":"AB45","v":""},null,{"$f":"AD45","v":""},null,{"$f":"AF45","v":""}]
[]
[]
[]
[]
[]
[null,"過少申告加算金",null,null,null,null,null,null,null,"03",null,{"$f":"入力用シート!Z17","v":""},null,{"$f":"入力用シート!AA17","v":""},null,{"$f":"入力用シート!AB17","v":""},null,{"$f":"入力用シート!AC17","v":""},null,{"$f":"入力用シート!AD17","v":""},null,{"$f":"入力用シート!AE17","v":""},null,{"$f":"入力用シート!AF17","v":""},null,{"$f":"入力用シート!AG17","v":""},null,{"$f":"入力用シート!AH17","v":""},null,{"$f":"入力用シート!AI17","v":""},null,{"$f":"入力用シート!AJ17","v":""},null,null,null,"過少申告加算金",null,null,null,null,null,null,null,"03",null,{"$f":"L51","v":""},null,{"$f":"N51","v":""},null,{"$f":"P51","v":""},null,{"$f":"R51","v":""},null,{"$f":"T51","v":""},null,{"$f":"V51","v":""},null,{"$f":"X51","v":""},null,{"$f":"Z51","v":""},null,{"$f":"AB51","v":""},null,{"$f":"AD51","v":""},null,{"$f":"AF51","v":""},null,null,null,"過少申告加算金",null,null,null,null,null,null,null,"03",null,{"$f":"L51","v":""},null,{"$f":"N51","v":""},null,{"$f":"P51","v":""},null,{"$f":"R51","v":""},null,{"$f":"T51","v":""},null,{"$f":"V51","v":""},null,{"$f":"X51","v":""},null,{"$f":"Z51","v":""},null,{"$f":"AB51","v":""},null,{"$f":"AD51","v":""},null,{"$f":"AF51","v":""}]
[]
[]
[]
[]
[]
[null,"不申告加算金",null,null,null,null,null,null,null,"04",null,{"$f":"入力用シート!Z18","v":""},null,{"$f":"入力用シート!AA18","v":""},null,{"$f":"入力用シート!AB18","v":""},null,{"$f":"入力用シート!AC18","v":""},null,{"$f":"入力用シート!AD18","v":""},null,{"$f":"入力用シート!AE18","v":""},null,{"$f":"入力用シート!AF18","v":""},null,{"$f":"入力用シート!AG18","v":""},null,{"$f":"入力用シート!AH18","v":""},null,{"$f":"入力用シート!AI18","v":""},null,{"$f":"入力用シート!AJ18","v":""},null,null,null,"不申告加算金",null,null,null,null,null,null,null,"04",null,{"$f":"L57","v":""},null,{"$f":"N57","v":""},null,{"$f":"P57","v":""},null,{"$f":"R57","v":""},null,{"$f":"T57","v":""},null,{"$f":"V57","v":""},null,{"$f":"X57","v":""},null,{"$f":"Z57","v":""},null,{"$f":"AB57","v":""},null,{"$f":"AD57","v":""},null,{"$f":"AF57","v":""},null,null,null,"不申告加算金",null,null,null,null,null,null,null,"04",null,{"$f":"L57","v":""},null,{"$f":"N57","v":""},null,{"$f":"P57","v":""},null,{"$f":"R57","v":""},null,{"$f":"T57","v":""},null,{"$f":"V57","v":""},null,{"$f":"X57","v":""},null,{"$f":"Z57","v":""},null,{"$f":"AB57","v":""},null,{"$f":"AD57","v":""},null,{"$f":"AF57","v":""}]
[]
[]
[]
[]
[]
[null,"重加算金",null,null,null,null,null,null,null,"05",null,{"$f":"入力用シート!Z19","v":""},null,{"$f":"入力用シート!AA19","v":""},null,{"$f":"入力用シート!AB19","v":""},null,{"$f":"入力用シート!AC19","v":""},null,{"$f":"入力用シート!AD19","v":""},null,{"$f":"入力用シート!AE19","v":""},null,{"$f":"入力用シート!AF19","v":""},null,{"$f":"入力用シート!AG19","v":""},null,{"$f":"入力用シート!AH19","v":""},null,{"$f":"入力用シート!AI19","v":""},null,{"$f":"入力用シート!AJ19","v":""},null,null,null,"重加算金",null,null,null,null,null,null,null,"05",null,{"$f":"L63","v":""},null,{"$f":"N63","v":""},null,{"$f":"P63","v":""},null,{"$f":"R63","v":""},null,{"$f":"T63","v":""},null,{"$f":"V63","v":""},null,{"$f":"X63","v":""},null,{"$f":"Z63","v":""},null,{"$f":"AB63","v":""},null,{"$f":"AD63","v":""},null,{"$f":"AF63","v":""},null,null,null,"重加算金",null,null,null,null,null,null,null,"05",null,{"$f":"L63","v":""},null,{"$f":"N63","v":""},null,{"$f":"P63","v":""},null,{"$f":"R63","v":""},null,{"$f":"T63","v":""},null,{"$f":"V63","v":""},null,{"$f":"X63","v":""},null,{"$f":"Z63","v":""},null,{"$f":"AB63","v":""},null,{"$f":"AD63","v":""},null,{"$f":"AF63","v":""}]
[]
[]
[]
[]
[]
[null,"合計額",null,null,null,null,null,null,null,"06",null,{"$f":"入力用シート!Z20","v":""},null,{"$f":"入力用シート!AA20","v":""},null,{"$f":"入力用シート!AB20","v":""},null,{"$f":"入力用シート!AC20","v":""},null,{"$f":"入力用シート!AD20","v":""},null,{"$f":"入力用シート!AE20","v":""},null,{"$f":"入力用シート!AF20","v":""},null,{"$f":"入力用シート!AG20","v":""},null,{"$f":"入力用シート!AH20","v":""},null,{"$f":"入力用シート!AI20","v":""},null,{"$f":"入力用シート!AJ20","v":"0"},null,null,null,"合計額",null,null,null,null,null,null,null,"06",null,{"$f":"L69","v":""},null,{"$f":"N69","v":""},null,{"$f":"P69","v":""},null,{"$f":"R69","v":""},null,{"$f":"T69","v":""},null,{"$f":"V69","v":""},null,{"$f":"X69","v":""},null,{"$f":"Z69","v":""},null,{"$f":"AB69","v":""},null,{"$f":"AD69","v":""},null,{"$f":"AF69","v":"0"},null,null,null,"合計額",null,null,null,null,null,null,null,"06",null,{"$f":"L69","v":""},null,{"$f":"N69","v":""},null,{"$f":"P69","v":""},null,{"$f":"R69","v":""},null,{"$f":"T69","v":""},null,{"$f":"V69","v":""},null,{"$f":"X69","v":""},null,{"$f":"Z69","v":""},null,{"$f":"AB69","v":""},null,{"$f":"AD69","v":""},null,{"$f":"AF69","v":"0"}]
[]
[]
[]
[]
[]
[]
[null,"納期限",null,null,null,null,null,{"$f":"入力用シート!D21","v":0},null,"年",null,{"$f":"入力用シート!G21","v":0},null,"月",null,{"$f":"入力用シート!J21","v":0},null,"日",null,null,"領収日付印",null,{"$f":"IF(H78<>\"\",\"\",\"この納付書は使用できません。入力用シートの提出先県税事務所を選択してください。\")","v":""},null,null,null,null,null,null,null,null,null,null,null,null,"納期限",null,null,null,null,null,{"$f":"H76","v":0},null,"年",null,{"$f":"L76","v":0},null,"月",null,{"$f":"P76","v":0},null,"日",null,null,"領収日付印",null,{"$f":"W76","v":""},null,null,null,null,null,null,null,null,null,null,null,null,"納期限",null,null,null,null,null,{"$f":"H76","v":0},null,"年",null,{"$f":"L76","v":0},null,"月",null,{"$f":"P76","v":0},null,"日",null,null,"領収日付印",null,{"$f":"BE76","v":""}]
[]
[null,"課税事務所",null,null,null,null,null,{"$f":"IF(入力用シート!D2<>\"\",\"神奈川県 \"&入力用シート!D2,\"\")","v":"神奈川県 横浜県税事務所"},null,null,null,null,null,null,null,null,null,null,null,null,null,null,null,null,null,null,null,null,null,null,null,null,null,null,null,"課税事務所",null,null,null,null,null,{"$f":"H78","v":"神奈川県 横浜県税事務所"},null,null,null,null,null,null,null,null,null,null,null,null,null,null,null,null,null,null,null,null,null,null,null,null,null,null,null,"課税事務所",null,null,null,null,null,{"$f":"H78","v":"神奈川県 横浜県税事務所"}]
[]
[null,"指定金融\n機 関 名\n(取りまとめ店)",null,null,null,null,null,"横　浜　銀　行",null,null,null,null,null,null,null,null,null,null,null,null,null,null,null,null,null,null,null,null,null,null,null,null,null,null,null,"日計",null,null,null,null,"口",null,null,null,null,null,null,null,null,null,null,null,null,null,null,null,null,null,null,null,null,null,null,null,null,null,null,null,null,null,"上記のとおり領収しました。"]
[null,null,null,null,null,null,null,null,null,null,null,null,null,null,null,null,null,null,null,null,null,null,null,null,null,null,null,null,null,null,null,null,null,null,null,null,null,null,null,null,null,null,null,null,null,null,null,null,null,null,null,null,null,null,null,null,null,null,null,null,null,null,null,null,null,null,null,null,null,null,"（納税者保管）"]
[null,null,null,null,null,null,null,null,null,null,null,null,null,null,null,null,null,null,null,null,null,null,null,null,null,null,null,null,null,null,null,null,null,null,null,null,null,null,null,null,"円"]
[null,"取りまとめ局",null,null,null,null,null,"郵便番号　224-8794"]
[null,null,null,null,null,null,null,null,null,null,null,null,null,null,null,null,null,null,null,null,null,null,null,null,null,null,null,null,null,null,null,null,null,null,null,null,"上記のとおり納付します。"]
[null,null,null,null,null,null,null,"横浜貯金事務センター",null,null,null,null,null,null,null,null,null,null,null,null,null,null,null,null,null,null,null,null,null,null,null,null,null,null,null,null,"（金融機関又は郵便局保管）"]
[]
[null,"上記のとおり通知します。（神奈川県保管）"]
[null,null,null,null,null,null,null,null,null,null,null,null,null,null,null,null,null,null,null,null,null,null,null,null,null,null,null,null,null,null,null,null,null,"↑",null,"点線で３枚に切り取り、３枚１組として、｢使用方法シート｣に記載した「県税の納付場所」に掲載されている金融機関又は郵便局で納付してください。"]
[]
[null,{"$f":"IF(H78<>\"\",\"\",\"【納付書使用不可】入力用シートの提出先県税事務所を選択してください。\")","v":""}]
[]
[]
[]
[]
[]
[]
[]
[null,null,{"$f":"MID($A1,COLUMNS($B$1:B1),1)","v":""}]